BEGIN:VCALENDAR
VERSION:2.0
PRODID:-//Squarespace Inc/Squarespace 6//v6//EN
BEGIN:VEVENT
UID:60235847c523f12b357cd667@squarespace.com
DTSTAMP:20210210T035554Z
DTSTART:20210428T000000Z
DTEND:20210515T040000Z
SUMMARY:India Mark | GOYA SODA
GEO:-34.315882;150.922394
LOCATION:The Egg & Dart\, 1-3 Raymond Road\, Thirroul\, NSW\, 2515\, Austra
 lia
END:VEVENT
END:VCALENDAR
