BEGIN:VCALENDAR
VERSION:2.0
PRODID:-//Squarespace Inc/Squarespace 6//v6//EN
BEGIN:VEVENT
UID:601cc7a398d65376cf767124@squarespace.com
DTSTAMP:20210210T035032Z
DTSTART:20210316T230000Z
DTEND:20210403T030000Z
SUMMARY:Clare Thackway | Between Us
GEO:-34.315882;150.922394
LOCATION:The Egg & Dart\, 1-3 Raymond Road\, Thirroul\, NSW\, 2515\, Austra
 lia
END:VEVENT
END:VCALENDAR
