BEGIN:VCALENDAR
VERSION:2.0
PRODID:-//Squarespace Inc/Squarespace 6//v6//EN
BEGIN:VEVENT
UID:5f334cf806d3f74520b11fd0@squarespace.com
DTSTAMP:20201002T031902Z
DTSTART:20200916T000000Z
DTEND:20201003T040000Z
SUMMARY:Mignon Steele | Nearer by Far
END:VEVENT
END:VCALENDAR
