BEGIN:VCALENDAR
VERSION:2.0
PRODID:-//Squarespace Inc/Squarespace 6//v6//EN
BEGIN:VEVENT
UID:5f1a4d88c92dd5201593d605@squarespace.com
DTSTAMP:20201012T095839Z
DTSTART:20200729T000000Z
DTEND:20200815T040000Z
SUMMARY:Lee Bethel | At This Point in Time
END:VEVENT
END:VCALENDAR
