BEGIN:VCALENDAR
VERSION:2.0
PRODID:-//Squarespace Inc/Squarespace 6//v6//EN
BEGIN:VEVENT
UID:5ed98b7565c1212bd1b1183c@squarespace.com
DTSTAMP:20200724T030155Z
DTSTART:20200605T000000Z
DTEND:20200725T070000Z
SUMMARY:Holding Pattern / Treading Water
END:VEVENT
END:VCALENDAR
