BEGIN:VCALENDAR
VERSION:2.0
PRODID:-//Squarespace Inc/Squarespace 6//v6//EN
BEGIN:VEVENT
UID:5ea4f49bb8f35d6c28def6f2@squarespace.com
DTSTAMP:20201114T005300Z
DTSTART:20200606T000000Z
DTEND:20200618T040000Z
SUMMARY:Nick Santoro for Melbourne Art Fair 2020
END:VEVENT
END:VCALENDAR
