BEGIN:VCALENDAR
VERSION:2.0
PRODID:-//Squarespace Inc/Squarespace 6//v6//EN
BEGIN:VEVENT
UID:5ea4f52c8315084d6dd6e426@squarespace.com
DTSTAMP:20201120T034812Z
DTSTART:20201027T230000Z
DTEND:20201115T030000Z
SUMMARY:Henry Jock Walker | Aquacurl Power Station
END:VEVENT
END:VCALENDAR
