BEGIN:VCALENDAR
VERSION:2.0
PRODID:-//Squarespace Inc/Squarespace 6//v6//EN
BEGIN:VEVENT
UID:5e92b964d15e8e3d2cb9aaf9@squarespace.com
DTSTAMP:20200424T235937Z
DTSTART:20200420T000000Z
DTEND:20200507T040000Z
SUMMARY:Amy Cuneo | Night-Light
END:VEVENT
END:VCALENDAR
