BEGIN:VCALENDAR
VERSION:2.0
PRODID:-//Squarespace Inc/Squarespace 6//v6//EN
BEGIN:VEVENT
UID:5e44a4e03f23db3e262bd14b@squarespace.com
DTSTAMP:20200610T031253Z
DTSTART:20200328T230000Z
DTEND:20200419T040000Z
SUMMARY:Frank Nowlan | Now and Then
END:VEVENT
END:VCALENDAR
