BEGIN:VCALENDAR
VERSION:2.0
PRODID:-//Squarespace Inc/Squarespace 6//v6//EN
BEGIN:VEVENT
UID:5e44a6828ab41f0f55ebcf8f@squarespace.com
DTSTAMP:20200915T113829Z
DTSTART:20200516T000000Z
DTEND:20200602T040000Z
SUMMARY:Georgia Spain | (Beginning in Blue) Left in Red
END:VEVENT
END:VCALENDAR
