BEGIN:VCALENDAR
VERSION:2.0
PRODID:-//Squarespace Inc/Squarespace 6//v6//EN
BEGIN:VEVENT
UID:5fd41da8ab7772717658fee5@squarespace.com
DTSTAMP:20210204T003947Z
DTSTART:20201215T230000Z
DTEND:20210130T030000Z
SUMMARY:Summer Hangz | Amy Cuneo\, India Mark\, Frank Nowlan &amp\; Madelei
 ne Peters
GEO:-34.315882;150.922394
LOCATION:The Egg & Dart\, 1-3 Raymond Road\, Thirroul\, NSW\, 2515\, Austra
 lia
END:VEVENT
END:VCALENDAR
