BEGIN:VCALENDAR
VERSION:2.0
PRODID:-//Squarespace Inc/Squarespace 6//v6//EN
BEGIN:VEVENT
UID:5f3350970dc6857846f05462@squarespace.com
DTSTAMP:20210104T224534Z
DTSTART:20201124T230000Z
DTEND:20201212T030000Z
SUMMARY:Nick Santoro | Libidinal Hymnal 
END:VEVENT
END:VCALENDAR
