BEGIN:VCALENDAR
VERSION:2.0
PRODID:-//Squarespace Inc/Squarespace 6//v6//EN
BEGIN:VEVENT
UID:5dce1e0303619210d6659ff8@squarespace.com
DTSTAMP:20201114T034052Z
DTSTART:20200128T230000Z
DTEND:20200222T030000Z
SUMMARY:Julia Flanagan | Dazzle
END:VEVENT
END:VCALENDAR
