BEGIN:VCALENDAR
VERSION:2.0
PRODID:-//Squarespace Inc/Squarespace 6//v6//EN
BEGIN:VEVENT
UID:5d393cf5ec4b3100012e6b57@squarespace.com
DTSTAMP:20200415T054414Z
DTSTART:20190911T230000Z
DTEND:20190915T110000Z
SUMMARY:Sydney Contemporary 2019
END:VEVENT
END:VCALENDAR
