BEGIN:VCALENDAR
VERSION:2.0
PRODID:-//Squarespace Inc/Squarespace 6//v6//EN
BEGIN:VEVENT
UID:5d0c2c2b96c8b70001da5314@squarespace.com
DTSTAMP:20200415T060028Z
DTSTART:20190703T000000Z
DTEND:20190720T040000Z
SUMMARY:Greyscale
END:VEVENT
END:VCALENDAR
