BEGIN:VCALENDAR
VERSION:2.0
PRODID:-//Squarespace Inc/Squarespace 6//v6//EN
BEGIN:VEVENT
UID:5d3939585557070001e578d1@squarespace.com
DTSTAMP:20200415T055407Z
DTSTART:20190821T000000Z
DTEND:20190920T040000Z
SUMMARY:India Mark | Casa della Frutta
END:VEVENT
END:VCALENDAR
