BEGIN:VCALENDAR
VERSION:2.0
PRODID:-//Squarespace Inc/Squarespace 6//v6//EN
BEGIN:VEVENT
UID:5cd4cca21905f49b5a854380@squarespace.com
DTSTAMP:20200415T060512Z
DTSTART:20190529T000000Z
DTEND:20190629T040000Z
SUMMARY:Mignon Steele | Volition
END:VEVENT
END:VCALENDAR
