BEGIN:VCALENDAR
VERSION:2.0
PRODID:-//Squarespace Inc/Squarespace 6//v6//EN
BEGIN:VEVENT
UID:5c89e07cec212dca0a2bf52e@squarespace.com
DTSTAMP:20200423T083342Z
DTSTART:20190501T000000Z
DTEND:20190505T120000Z
SUMMARY:Auckland Art Fair 2019
END:VEVENT
END:VCALENDAR
