BEGIN:VCALENDAR
VERSION:2.0
PRODID:-//Squarespace Inc/Squarespace 6//v6//EN
BEGIN:VEVENT
UID:5c89df2f53450a5b64534fb0@squarespace.com
DTSTAMP:20200423T084414Z
DTSTART:20190402T230000Z
DTEND:20190427T040000Z
SUMMARY:Adrian Baiada | An Above Average Moment
END:VEVENT
END:VCALENDAR
