BEGIN:VCALENDAR
VERSION:2.0
PRODID:-//Squarespace Inc/Squarespace 6//v6//EN
BEGIN:VEVENT
UID:5c64e2b315fcc0fa0581cd48@squarespace.com
DTSTAMP:20200423T085142Z
DTSTART:20190305T230000Z
DTEND:20190330T030000Z
SUMMARY:Lee Bethel | Regeneration
END:VEVENT
END:VCALENDAR
