BEGIN:VCALENDAR
VERSION:2.0
PRODID:-//Squarespace Inc/Squarespace 6//v6//EN
BEGIN:VEVENT
UID:5c47f315758d46280be3dd78@squarespace.com
DTSTAMP:20200423T085726Z
DTSTART:20190205T230000Z
DTEND:20190302T030000Z
SUMMARY:Impractical Activity | Gabrielle Adamik and Aaron Fell-Fracasso
END:VEVENT
END:VCALENDAR
