BEGIN:VCALENDAR
VERSION:2.0
PRODID:-//Squarespace Inc/Squarespace 6//v6//EN
BEGIN:VEVENT
UID:578072e5893fc04f816a0ee5@squarespace.com
DTSTAMP:20180521T130041Z
DTSTART:20160709T140000Z
DTEND:20160731T210000Z
SUMMARY:The Scrambled Egg & Dart Experiment | Henry Jock Walker
END:VEVENT
END:VCALENDAR
