BEGIN:VCALENDAR
VERSION:2.0
PRODID:-//Squarespace Inc/Squarespace 6//v6//EN
BEGIN:VEVENT
UID:57ce5e8d3e00bed93bbb73a4@squarespace.com
DTSTAMP:20180521T130013Z
DTSTART:20161011T133000Z
DTEND:20161023T190000Z
SUMMARY:Elin Matilda Andersson | Second Skin
END:VEVENT
END:VCALENDAR
